BEGIN:VCALENDAR
VERSION:2.0
PRODID:-//Teupitz Gehtauf e.V. - ECPv6.15.20//NONSGML v1.0//EN
CALSCALE:GREGORIAN
METHOD:PUBLISH
X-WR-CALNAME:Teupitz Gehtauf e.V.
X-ORIGINAL-URL:https://teupitzgehtauf.de
X-WR-CALDESC:Veranstaltungen für Teupitz Gehtauf e.V.
REFRESH-INTERVAL;VALUE=DURATION:PT1H
X-Robots-Tag:noindex
X-PUBLISHED-TTL:PT1H
BEGIN:VTIMEZONE
TZID:Europe/Berlin
BEGIN:DAYLIGHT
TZOFFSETFROM:+0100
TZOFFSETTO:+0200
TZNAME:CEST
DTSTART:20220327T010000
END:DAYLIGHT
BEGIN:STANDARD
TZOFFSETFROM:+0200
TZOFFSETTO:+0100
TZNAME:CET
DTSTART:20221030T010000
END:STANDARD
BEGIN:DAYLIGHT
TZOFFSETFROM:+0100
TZOFFSETTO:+0200
TZNAME:CEST
DTSTART:20230326T010000
END:DAYLIGHT
BEGIN:STANDARD
TZOFFSETFROM:+0200
TZOFFSETTO:+0100
TZNAME:CET
DTSTART:20231029T010000
END:STANDARD
BEGIN:DAYLIGHT
TZOFFSETFROM:+0100
TZOFFSETTO:+0200
TZNAME:CEST
DTSTART:20240331T010000
END:DAYLIGHT
BEGIN:STANDARD
TZOFFSETFROM:+0200
TZOFFSETTO:+0100
TZNAME:CET
DTSTART:20241027T010000
END:STANDARD
END:VTIMEZONE
BEGIN:VEVENT
DTSTART;TZID=Europe/Berlin:20230216T180000
DTEND;TZID=Europe/Berlin:20230216T190000
DTSTAMP:20260425T143244
CREATED:20221220T133340Z
LAST-MODIFIED:20221220T133340Z
UID:1039-1676570400-1676574000@teupitzgehtauf.de
SUMMARY:Einbruch & Prävention
DESCRIPTION:Einbrüche verhindern mit dem Wissen\, wie die Täter vorgehen\nMit dem Beginn der dunklen Jahreszeit steigt auch die Einbruchsgefahr. Fast die Hälfte aller Einbrüche findet zwischen Oktober und Januar statt. \nEin Einbruch in den eigenen vier Wänden kann das Sicherheitsgefühl und Wohlbefinden der Betroffenen nachhaltig beeinträchtigen: Nicht nur der materielle Schaden\, sondern häufig auch dauerhafte psychische Belastungen sind die Folgen für die Opfer. Denn die Täter dringen in die Privatsphäre ein\, wühlen in den persönlichsten Sachen und stehlen womöglich Gegenstände\, an denen Lebenserinnerungen hängen. \nDass man sich davor schützen kann\, zeigt die Erfahrung der Polizei. \nAm 16.02.2023 steht Ihnen die Polizei Dahme-Spreewald als kompetenter Gesprächs- und Informationspartner in Teupitz von 18:00 – 20:00 Uhr zur Verfügung. Sie können sich vor Ort über die Möglichkeiten des Einbruchschutzes für ihr Wohneigentum informieren. \nEs wird auch möglich sein\, einen kostenlosen Vor-Ort Beratungstermin für den eigenen Wohnraum\, egal ob Wohnung\, Haus oder Gewerbeimmobilie mit dem Berater zu vereinbaren. \nWussten Sie\, dass mit einem normalen Schraubenzieher ein Fenster im Nu offen ist? \nMit Zusatzelementen wie Fenster- und Tür-Zusatzschlössern erhöhen Sie effektiv die Sicherheit Ihres Zuhauses. Fenster und Türen lassen sich dann nämlich nicht mehr einfach aufhebeln. Auch der Abschreckungseffekt vieler Produkte sorgt dafür\, dass der Einbrecher tatenlos weiterzieht. \nGerne Anmeldung unter Tel. 0157 56225521
URL:https://teupitzgehtauf.de/event/einbruch-praevention/
LOCATION:Teupitz\, Schulaula
END:VEVENT
END:VCALENDAR