BEGIN:VCALENDAR
VERSION:2.0
PRODID:-//Teupitz Gehtauf e.V. - ECPv6.15.20//NONSGML v1.0//EN
CALSCALE:GREGORIAN
METHOD:PUBLISH
X-WR-CALNAME:Teupitz Gehtauf e.V.
X-ORIGINAL-URL:https://teupitzgehtauf.de
X-WR-CALDESC:Veranstaltungen für Teupitz Gehtauf e.V.
REFRESH-INTERVAL;VALUE=DURATION:PT1H
X-Robots-Tag:noindex
X-PUBLISHED-TTL:PT1H
BEGIN:VTIMEZONE
TZID:Europe/Berlin
BEGIN:DAYLIGHT
TZOFFSETFROM:+0100
TZOFFSETTO:+0200
TZNAME:CEST
DTSTART:20230326T010000
END:DAYLIGHT
BEGIN:STANDARD
TZOFFSETFROM:+0200
TZOFFSETTO:+0100
TZNAME:CET
DTSTART:20231029T010000
END:STANDARD
BEGIN:DAYLIGHT
TZOFFSETFROM:+0100
TZOFFSETTO:+0200
TZNAME:CEST
DTSTART:20240331T010000
END:DAYLIGHT
BEGIN:STANDARD
TZOFFSETFROM:+0200
TZOFFSETTO:+0100
TZNAME:CET
DTSTART:20241027T010000
END:STANDARD
BEGIN:DAYLIGHT
TZOFFSETFROM:+0100
TZOFFSETTO:+0200
TZNAME:CEST
DTSTART:20250330T010000
END:DAYLIGHT
BEGIN:STANDARD
TZOFFSETFROM:+0200
TZOFFSETTO:+0100
TZNAME:CET
DTSTART:20251026T010000
END:STANDARD
END:VTIMEZONE
BEGIN:VEVENT
DTSTART;TZID=Europe/Berlin:20240928T100000
DTEND;TZID=Europe/Berlin:20240928T120000
DTSTAMP:20260420T000352
CREATED:20240714T183618Z
LAST-MODIFIED:20240714T183618Z
UID:2097-1727517600-1727524800@teupitzgehtauf.de
SUMMARY:Macht mit! - World Cleanup Day
DESCRIPTION: World Cleanup Day 2024 mit unserer Aufräumaktion in und um Teupitz herum nehmen wir zum 4. Mal teil.  Jedes Jahr wurden über 800 kg in 2 Stunden gesammelt. \nAn den Straßenrändern und Wegen\, in unserem Wohnumfeld\, auf den Wiesen\, Plätzen und in den angrenzenden Waldrändern sollen Sammelaktionen stattfinden. \nDer Tag soll Aufmerksamkeit für die Umwelt schaffen und zeigen\, dass man auch im Kleinen durch eigenes Handeln etwas bewegen kann. Ständig sind wir mit sorglos weggeworfenen Abfällen in der Landschaft konfrontiert. Daran muss sich etwas ändern\, so dachten auch alle Beteiligten und nahmen in den vergangenen Jahren ohne Zögern teil. Es ist erschreckend\, wieviel Müll zusammenkommt. \nEin weiteres Anliegen ist\, das ursprüngliche Landschaftsbild zu erhalten und schädliche\, unschöne Müllablagerungen zu entfernen.
URL:https://teupitzgehtauf.de/event/macht-mit-world-cleanup-day-2/
END:VEVENT
END:VCALENDAR