BEGIN:VCALENDAR
VERSION:2.0
PRODID:-//Teupitz Gehtauf e.V. - ECPv6.15.20//NONSGML v1.0//EN
CALSCALE:GREGORIAN
METHOD:PUBLISH
X-ORIGINAL-URL:https://teupitzgehtauf.de
X-WR-CALDESC:Veranstaltungen für Teupitz Gehtauf e.V.
REFRESH-INTERVAL;VALUE=DURATION:PT1H
X-Robots-Tag:noindex
X-PUBLISHED-TTL:PT1H
BEGIN:VTIMEZONE
TZID:Europe/Berlin
BEGIN:DAYLIGHT
TZOFFSETFROM:+0100
TZOFFSETTO:+0200
TZNAME:CEST
DTSTART:20240331T010000
END:DAYLIGHT
BEGIN:STANDARD
TZOFFSETFROM:+0200
TZOFFSETTO:+0100
TZNAME:CET
DTSTART:20241027T010000
END:STANDARD
BEGIN:DAYLIGHT
TZOFFSETFROM:+0100
TZOFFSETTO:+0200
TZNAME:CEST
DTSTART:20250330T010000
END:DAYLIGHT
BEGIN:STANDARD
TZOFFSETFROM:+0200
TZOFFSETTO:+0100
TZNAME:CET
DTSTART:20251026T010000
END:STANDARD
BEGIN:DAYLIGHT
TZOFFSETFROM:+0100
TZOFFSETTO:+0200
TZNAME:CEST
DTSTART:20260329T010000
END:DAYLIGHT
BEGIN:STANDARD
TZOFFSETFROM:+0200
TZOFFSETTO:+0100
TZNAME:CET
DTSTART:20261025T010000
END:STANDARD
END:VTIMEZONE
BEGIN:VEVENT
DTSTART;TZID=Europe/Berlin:20250228T180000
DTEND;TZID=Europe/Berlin:20250228T210000
DTSTAMP:20260420T131723
CREATED:20250102T125145Z
LAST-MODIFIED:20250102T125151Z
UID:2209-1740765600-1740776400@teupitzgehtauf.de
SUMMARY:Teupitzer Geschichten
DESCRIPTION:Andrea und Frank Schöne führten von 1995 bis 2009 am ehemaligen Gelände der LPG ein Kinderhaus. Sie betreuten mit ihrer Familie über 14 Jahre hinweg mehrere Kinder und Jugendliche und halfen ihnen auf ihrem Weg in die Zukunft. Ein Stück bisher kaum beachteter Teupitzer Geschichte!\nAnmeldung aus organisatorischen Gründen gewünscht.
URL:https://teupitzgehtauf.de/event/teupitzer-geschichten/
LOCATION:15755 Teupitz\, Lindenstraße 4\, Schulaula
END:VEVENT
END:VCALENDAR