BEGIN:VCALENDAR
VERSION:2.0
PRODID:-//Teupitz Gehtauf e.V. - ECPv6.15.20//NONSGML v1.0//EN
CALSCALE:GREGORIAN
METHOD:PUBLISH
X-WR-CALNAME:Teupitz Gehtauf e.V.
X-ORIGINAL-URL:https://teupitzgehtauf.de
X-WR-CALDESC:Veranstaltungen für Teupitz Gehtauf e.V.
REFRESH-INTERVAL;VALUE=DURATION:PT1H
X-Robots-Tag:noindex
X-PUBLISHED-TTL:PT1H
BEGIN:VTIMEZONE
TZID:Europe/Berlin
BEGIN:DAYLIGHT
TZOFFSETFROM:+0100
TZOFFSETTO:+0200
TZNAME:CEST
DTSTART:20240331T010000
END:DAYLIGHT
BEGIN:STANDARD
TZOFFSETFROM:+0200
TZOFFSETTO:+0100
TZNAME:CET
DTSTART:20241027T010000
END:STANDARD
BEGIN:DAYLIGHT
TZOFFSETFROM:+0100
TZOFFSETTO:+0200
TZNAME:CEST
DTSTART:20250330T010000
END:DAYLIGHT
BEGIN:STANDARD
TZOFFSETFROM:+0200
TZOFFSETTO:+0100
TZNAME:CET
DTSTART:20251026T010000
END:STANDARD
BEGIN:DAYLIGHT
TZOFFSETFROM:+0100
TZOFFSETTO:+0200
TZNAME:CEST
DTSTART:20260329T010000
END:DAYLIGHT
BEGIN:STANDARD
TZOFFSETFROM:+0200
TZOFFSETTO:+0100
TZNAME:CET
DTSTART:20261025T010000
END:STANDARD
END:VTIMEZONE
BEGIN:VEVENT
DTSTART;TZID=Europe/Berlin:20251102T100000
DTEND;TZID=Europe/Berlin:20251102T120000
DTSTAMP:20260419T222927
CREATED:20251004T141400Z
LAST-MODIFIED:20251004T141849Z
UID:2375-1762077600-1762084800@teupitzgehtauf.de
SUMMARY:Pilzwanderung und Pilzausstellung und fachkundliche Beratung mit dem Pilzexperten Herrn Waldschütz
DESCRIPTION:
URL:https://teupitzgehtauf.de/event/pilzwanderung-und-pilzausstellung-und-fachkundliche-beratung-mit-dem-pilzexperten-herrn-waldschuetz/
LOCATION:15755 Tornow\, Tornower Waldstraße\, An der Feuerwehr
END:VEVENT
END:VCALENDAR