BEGIN:VCALENDAR
VERSION:2.0
PRODID:-//Teupitz Gehtauf e.V. - ECPv6.15.20//NONSGML v1.0//EN
CALSCALE:GREGORIAN
METHOD:PUBLISH
X-ORIGINAL-URL:https://teupitzgehtauf.de
X-WR-CALDESC:Veranstaltungen für Teupitz Gehtauf e.V.
REFRESH-INTERVAL;VALUE=DURATION:PT1H
X-Robots-Tag:noindex
X-PUBLISHED-TTL:PT1H
BEGIN:VTIMEZONE
TZID:Europe/Berlin
BEGIN:DAYLIGHT
TZOFFSETFROM:+0100
TZOFFSETTO:+0200
TZNAME:CEST
DTSTART:20250330T010000
END:DAYLIGHT
BEGIN:STANDARD
TZOFFSETFROM:+0200
TZOFFSETTO:+0100
TZNAME:CET
DTSTART:20251026T010000
END:STANDARD
BEGIN:DAYLIGHT
TZOFFSETFROM:+0100
TZOFFSETTO:+0200
TZNAME:CEST
DTSTART:20260329T010000
END:DAYLIGHT
BEGIN:STANDARD
TZOFFSETFROM:+0200
TZOFFSETTO:+0100
TZNAME:CET
DTSTART:20261025T010000
END:STANDARD
BEGIN:DAYLIGHT
TZOFFSETFROM:+0100
TZOFFSETTO:+0200
TZNAME:CEST
DTSTART:20270328T010000
END:DAYLIGHT
BEGIN:STANDARD
TZOFFSETFROM:+0200
TZOFFSETTO:+0100
TZNAME:CET
DTSTART:20271031T010000
END:STANDARD
END:VTIMEZONE
BEGIN:VEVENT
DTSTART;VALUE=DATE:20260101
DTEND;VALUE=DATE:20260201
DTSTAMP:20260419T202546
CREATED:20251101T135533Z
LAST-MODIFIED:20251127T152132Z
UID:2390-1767225600-1769903999@teupitzgehtauf.de
SUMMARY:Veganer Januar 2026
DESCRIPTION:Der Verein Teupitz Gehtauf e.V. lädt im Januar 2026 zu einer besonderen Mitmach-Aktion ein:\nIn einer offenen WhatsApp-Gruppe gibt es jeden Tag ein neues Rezept mit saisonalem Wintergemüse aus unserer Region – frisch\, kreativ und einfach nachzukochen.\nOb wärmende Suppe\, bunte Gemüsepfanne oder knackiger Salat – hier steht der Geschmack im Vordergrund! Wer Lust hat\, Neues auszuprobieren und bewusster zu essen\, ist herzlich willkommen.\nEinfach den QR-Code auf dem Flyer scannen oder eine E-Mail an info@teupitzgehtauf.de schreiben und kostenlos mitmachen!
URL:https://teupitzgehtauf.de/event/veganer-januar-2026/
END:VEVENT
BEGIN:VEVENT
DTSTART;TZID=Europe/Berlin:20260103T140000
DTEND;TZID=Europe/Berlin:20260103T160000
DTSTAMP:20260419T202546
CREATED:20251123T184912Z
LAST-MODIFIED:20251123T184912Z
UID:2405-1767448800-1767456000@teupitzgehtauf.de
SUMMARY:Neujahrswanderung
DESCRIPTION:      Neujahrswanderung 2026 \n✨ GEMEINSAM aktiv ins neue Jahr! \nDer Verein Teupitz Gehtauf e.V. lädt herzlich zur stimmungsvollen Neujahrswanderung ein. Bei einer gemütlichen Tour von ca. 2 Stunden rund um Teupitz begrüßen wir gemeinsam das neue Jahr. \n📅 Datum: 03. Januar 2026 \n🕙 Startzeit: 14:00 Uhr \n📍 Treffpunkt: Parkplatz an der Grundschule Teupitz\, Lindenstraße \n🥾 Ablauf \n\nBegrüßung durch den Verein\nStart entlang schöner Naturwege\nGemütliche Pause mit warmen Getränken ☕\nGemeinsamer Ausklang am Ziel\n\nℹ️ Hinweise \n\nDie Teilnahme ist kostenlos\nBitte an wetterfeste Kleidung denken\nKinder und Hunde sind herzlich willkommen 🐕‍🦺\nGetränke sind gegen eine kleine Spende erhältlich
URL:https://teupitzgehtauf.de/event/neujahrswanderung/
END:VEVENT
END:VCALENDAR