BEGIN:VCALENDAR
VERSION:2.0
PRODID:-//Teupitz Gehtauf e.V. - ECPv6.15.20//NONSGML v1.0//EN
CALSCALE:GREGORIAN
METHOD:PUBLISH
X-ORIGINAL-URL:https://teupitzgehtauf.de
X-WR-CALDESC:Veranstaltungen für Teupitz Gehtauf e.V.
REFRESH-INTERVAL;VALUE=DURATION:PT1H
X-Robots-Tag:noindex
X-PUBLISHED-TTL:PT1H
BEGIN:VTIMEZONE
TZID:Europe/Berlin
BEGIN:DAYLIGHT
TZOFFSETFROM:+0100
TZOFFSETTO:+0200
TZNAME:CEST
DTSTART:20220327T010000
END:DAYLIGHT
BEGIN:STANDARD
TZOFFSETFROM:+0200
TZOFFSETTO:+0100
TZNAME:CET
DTSTART:20221030T010000
END:STANDARD
BEGIN:DAYLIGHT
TZOFFSETFROM:+0100
TZOFFSETTO:+0200
TZNAME:CEST
DTSTART:20230326T010000
END:DAYLIGHT
BEGIN:STANDARD
TZOFFSETFROM:+0200
TZOFFSETTO:+0100
TZNAME:CET
DTSTART:20231029T010000
END:STANDARD
BEGIN:DAYLIGHT
TZOFFSETFROM:+0100
TZOFFSETTO:+0200
TZNAME:CEST
DTSTART:20240331T010000
END:DAYLIGHT
BEGIN:STANDARD
TZOFFSETFROM:+0200
TZOFFSETTO:+0100
TZNAME:CET
DTSTART:20241027T010000
END:STANDARD
END:VTIMEZONE
BEGIN:VEVENT
DTSTART;TZID=Europe/Berlin:20230107T150000
DTEND;TZID=Europe/Berlin:20230107T160000
DTSTAMP:20260425T143533
CREATED:20221108T155433Z
LAST-MODIFIED:20221120T215713Z
UID:894-1673103600-1673107200@teupitzgehtauf.de
SUMMARY:Märchenfee und Harfenklänge
DESCRIPTION:Es war einmal…  Märchen & Harfe \nHarfenspielerin und Märchenerzählerin Agnes Barbara Kist \nerzählt Märchen und Wintergeschichten frei und lebendig. Lasst Euch märchenhaft verzaubern. Sanfte märchenhafte Harfenklänge auf der keltischen Harfe öffnen die Tür in eine andere Welt und laden zum Mitsingen ein. Lauschend gehen wir auf eine winterliche Märchenreise und reich an inneren Bildern werden alle mit einem Märchenschatz nach Hause gehen. \nDer Verein „Teupitz Gehtauf e.V. möchte Kinder und Erwachsene herzlich einladen zur besonderen kuschligen Märchenstunde im Saal des Gasthauses Zur Linde Seestraße 27\, in 15755 Tornow. \nVoranmeldung erforderlich: E-Mail: info@teupitzgehtauf.de oder \nTel. 0157 56225521 \nEintritt: frei – Mit einer Spende können Sie diese Veranstaltung und unsere weiteren Projekte gerne unterstützen. (Spendenquittungen können ausgestellt werden.) \n  \n 
URL:https://teupitzgehtauf.de/event/maerchenfee-und-harfenklaenge/
LOCATION:Gasthaus Zur Linde Tornow
END:VEVENT
END:VCALENDAR