BEGIN:VCALENDAR
VERSION:2.0
PRODID:-//Teupitz Gehtauf e.V. - ECPv6.15.20//NONSGML v1.0//EN
CALSCALE:GREGORIAN
METHOD:PUBLISH
X-ORIGINAL-URL:https://teupitzgehtauf.de
X-WR-CALDESC:Veranstaltungen für Teupitz Gehtauf e.V.
REFRESH-INTERVAL;VALUE=DURATION:PT1H
X-Robots-Tag:noindex
X-PUBLISHED-TTL:PT1H
BEGIN:VTIMEZONE
TZID:Europe/Berlin
BEGIN:DAYLIGHT
TZOFFSETFROM:+0100
TZOFFSETTO:+0200
TZNAME:CEST
DTSTART:20220327T010000
END:DAYLIGHT
BEGIN:STANDARD
TZOFFSETFROM:+0200
TZOFFSETTO:+0100
TZNAME:CET
DTSTART:20221030T010000
END:STANDARD
BEGIN:DAYLIGHT
TZOFFSETFROM:+0100
TZOFFSETTO:+0200
TZNAME:CEST
DTSTART:20230326T010000
END:DAYLIGHT
BEGIN:STANDARD
TZOFFSETFROM:+0200
TZOFFSETTO:+0100
TZNAME:CET
DTSTART:20231029T010000
END:STANDARD
BEGIN:DAYLIGHT
TZOFFSETFROM:+0100
TZOFFSETTO:+0200
TZNAME:CEST
DTSTART:20240331T010000
END:DAYLIGHT
BEGIN:STANDARD
TZOFFSETFROM:+0200
TZOFFSETTO:+0100
TZNAME:CET
DTSTART:20241027T010000
END:STANDARD
END:VTIMEZONE
BEGIN:VEVENT
DTSTART;TZID=Europe/Berlin:20230603T100000
DTEND;TZID=Europe/Berlin:20230603T140000
DTSTAMP:20260423T193107
CREATED:20230504T095003Z
LAST-MODIFIED:20230504T095217Z
UID:1250-1685786400-1685800800@teupitzgehtauf.de
SUMMARY:2. Teupitzer Kinderfest
DESCRIPTION:
URL:https://teupitzgehtauf.de/event/2-teupitzer-kinderfest/
LOCATION:Teupitz\, Fontanepark\, an der Seebrücke/Spielplatz
END:VEVENT
BEGIN:VEVENT
DTSTART;TZID=Europe/Berlin:20230603T130000
DTEND;TZID=Europe/Berlin:20230603T163000
DTSTAMP:20260423T193107
CREATED:20230506T202957Z
LAST-MODIFIED:20230506T203005Z
UID:1314-1685797200-1685809800@teupitzgehtauf.de
SUMMARY:"Geht noch" spielt für Sie
DESCRIPTION:„Geht noch“ spielt für Sie Oldies\, Country\, Rock und Balladen im Gasthaus Tupitzer Hafen\, direkt am Teupitzsee
URL:https://teupitzgehtauf.de/event/geht-noch-spielt-fuer-sie/
LOCATION:Gasthaus Tupitzer Hafen\, Markt 16\, 15755 Teupitz\, Teupitz\, 15755
END:VEVENT
END:VCALENDAR