BEGIN:VCALENDAR
VERSION:2.0
PRODID:-//Teupitz Gehtauf e.V. - ECPv6.15.20//NONSGML v1.0//EN
CALSCALE:GREGORIAN
METHOD:PUBLISH
X-ORIGINAL-URL:https://teupitzgehtauf.de
X-WR-CALDESC:Veranstaltungen für Teupitz Gehtauf e.V.
REFRESH-INTERVAL;VALUE=DURATION:PT1H
X-Robots-Tag:noindex
X-PUBLISHED-TTL:PT1H
BEGIN:VTIMEZONE
TZID:Europe/Berlin
BEGIN:DAYLIGHT
TZOFFSETFROM:+0100
TZOFFSETTO:+0200
TZNAME:CEST
DTSTART:20220327T010000
END:DAYLIGHT
BEGIN:STANDARD
TZOFFSETFROM:+0200
TZOFFSETTO:+0100
TZNAME:CET
DTSTART:20221030T010000
END:STANDARD
BEGIN:DAYLIGHT
TZOFFSETFROM:+0100
TZOFFSETTO:+0200
TZNAME:CEST
DTSTART:20230326T010000
END:DAYLIGHT
BEGIN:STANDARD
TZOFFSETFROM:+0200
TZOFFSETTO:+0100
TZNAME:CET
DTSTART:20231029T010000
END:STANDARD
BEGIN:DAYLIGHT
TZOFFSETFROM:+0100
TZOFFSETTO:+0200
TZNAME:CEST
DTSTART:20240331T010000
END:DAYLIGHT
BEGIN:STANDARD
TZOFFSETFROM:+0200
TZOFFSETTO:+0100
TZNAME:CET
DTSTART:20241027T010000
END:STANDARD
END:VTIMEZONE
BEGIN:VEVENT
DTSTART;TZID=Europe/Berlin:20230913T180000
DTEND;TZID=Europe/Berlin:20230913T200000
DTSTAMP:20260423T141721
CREATED:20230726T091635Z
LAST-MODIFIED:20230726T092154Z
UID:1427-1694628000-1694635200@teupitzgehtauf.de
SUMMARY:Alles über Schlaganfall - Neuer neurologischer Chefarzt Dr. Erdur
DESCRIPTION:Was ist ein Schlaganfall? Typische Vorboten und Warnsymptome. Wie wird ein Schlaganfall behandelt und wie geht es nach dem Schlaganfall weiter.  Wie finden Betroffene nach einem Schlaganfall zurück ins Leben? \nFür alle Bürger\, Patienten\, Angehörige und Interessierte. Die Veranstaltung ist kostenfrei und wir freuen uns\, dass Herr Dr. Erdur sich bereiterklärt hat\, zu diesem immer aktuellen Thema zu sprechen. Herr Chefarzt Erdur steht Ihnen auch gerne für Fragen zur Verfügung. \nAnmeldung gewünscht.
URL:https://teupitzgehtauf.de/event/alles-ueber-schlaganfall-neuer-neurologischer-chefarzt-dr-erdur/
LOCATION:15755 Teupitz\, Lindenstraße 4\, Schulaula
END:VEVENT
BEGIN:VEVENT
DTSTART;TZID=Europe/Berlin:20230916T100000
DTEND;TZID=Europe/Berlin:20230916T120000
DTSTAMP:20260423T141721
CREATED:20230831T142933Z
LAST-MODIFIED:20230831T142933Z
UID:1458-1694858400-1694865600@teupitzgehtauf.de
SUMMARY:Macht mit! World Cleanup Day
DESCRIPTION:Macht mit! – World Cleanup Day  \nWir starten am World Cleanup Day 2023 mit unserer Aufräumaktion in und um Teupitz herum am Samstag\, den 16. September von 10:00 bis 12:00 Uhr.  \nFür Kita\, Hort und Schule sind natürlich die Müllsammlungen wochentags möglich\, die Müllsäcke werden am Freitag\, 15.9. abgeholt\, einfach vor das Tor stellen. \nAn den Straßenrändern und Wegen\, in unserem Wohnumfeld\, auf den Wiesen\, Plätzen und in den angrenzenden Waldrändern sollen Sammelaktionen stattfinden. \nDer Tag soll Aufmerksamkeit für die Umwelt schaffen und zeigen\, dass man auch im Kleinen durch eigenes Handeln etwas bewegen kann. Ständig sind wir mit sorglos weggeworfenen Abfällen in der Landschaft konfrontiert. Daran muss sich etwas ändern\, so dachten auch alle Beteiligten und nahmen in den vergangenen Jahren ohne Zögern teil. Es ist erschreckend\, wieviel Müll zusammenkommt. 2021 und 2022 wurden jeweils über 800 kg Müll in 2 Stunden gesammelt. \nEin weiteres Anliegen ist\, das ursprüngliche Landschaftsbild zu erhalten und schädliche\, unschöne Müllablagerungen zu entfernen. \nAm Samstag\, 16.09. können die Müllsäcke der Sammelaktion sichtbar am Straßenrand abgestellt werden\, sie werden eingesammelt und zum Container gebracht\, der vom SBAZV bereitgestellt wird. \nAbschließend treffen wir uns um 12:00 Uhr an der Feuerwehr Teupitz für ein gemütliches Beisammensein mit Grillwürstchen\, die uns die Kameraden der Freiwilligen Feuerwehr Teupitz wieder zubereiten. \nDie Kinder können am Glücksrad ihren Spaß haben und einiges gewinnen. Es wird vom Verein Teupitz Gehtauf e.V. zur Verfügung gestellt.
URL:https://teupitzgehtauf.de/event/macht-mit-world-cleanup-day/
END:VEVENT
BEGIN:VEVENT
DTSTART;TZID=Europe/Berlin:20230922T183000
DTEND;TZID=Europe/Berlin:20230922T203000
DTSTAMP:20260423T141721
CREATED:20230622T093111Z
LAST-MODIFIED:20230622T093425Z
UID:1353-1695407400-1695414600@teupitzgehtauf.de
SUMMARY:Dubai - Report  - Leben in einer anderen Welt!
DESCRIPTION:Andrea und Frank Schöne lebten von 2014 bis 2022 in Dubai\, den Vereinten Arabischen Emiraten. \nSie begegneten dort Menschen aus aller Welt\, hatten unglaubliche Erlebnisse und lernten einen Kulturkreis kennen\, welcher um einiges anders ist\, als der Europäische. \nDieses\, Interessierten näher zu bringen\, ist Ziel der ca. 2-stündigen Reise in eine „andere Welt“! \nAnmeldung: gewünscht. Eintritt: kostenlos
URL:https://teupitzgehtauf.de/event/dubai-report-leben-in-einer-anderen-welt/
LOCATION:Teupitz\, Schulaula
END:VEVENT
END:VCALENDAR