BEGIN:VCALENDAR
VERSION:2.0
PRODID:-//Teupitz Gehtauf e.V. - ECPv6.15.20//NONSGML v1.0//EN
CALSCALE:GREGORIAN
METHOD:PUBLISH
X-ORIGINAL-URL:https://teupitzgehtauf.de
X-WR-CALDESC:Veranstaltungen für Teupitz Gehtauf e.V.
REFRESH-INTERVAL;VALUE=DURATION:PT1H
X-Robots-Tag:noindex
X-PUBLISHED-TTL:PT1H
BEGIN:VTIMEZONE
TZID:Europe/Berlin
BEGIN:DAYLIGHT
TZOFFSETFROM:+0100
TZOFFSETTO:+0200
TZNAME:CEST
DTSTART:20230326T010000
END:DAYLIGHT
BEGIN:STANDARD
TZOFFSETFROM:+0200
TZOFFSETTO:+0100
TZNAME:CET
DTSTART:20231029T010000
END:STANDARD
BEGIN:DAYLIGHT
TZOFFSETFROM:+0100
TZOFFSETTO:+0200
TZNAME:CEST
DTSTART:20240331T010000
END:DAYLIGHT
BEGIN:STANDARD
TZOFFSETFROM:+0200
TZOFFSETTO:+0100
TZNAME:CET
DTSTART:20241027T010000
END:STANDARD
BEGIN:DAYLIGHT
TZOFFSETFROM:+0100
TZOFFSETTO:+0200
TZNAME:CEST
DTSTART:20250330T010000
END:DAYLIGHT
BEGIN:STANDARD
TZOFFSETFROM:+0200
TZOFFSETTO:+0100
TZNAME:CET
DTSTART:20251026T010000
END:STANDARD
END:VTIMEZONE
BEGIN:VEVENT
DTSTART;TZID=Europe/Berlin:20240301T170000
DTEND;TZID=Europe/Berlin:20240301T190000
DTSTAMP:20260421T111111
CREATED:20240130T120424Z
LAST-MODIFIED:20240201T173340Z
UID:1739-1709312400-1709319600@teupitzgehtauf.de
SUMMARY:Bowling
DESCRIPTION:2\, Bowlingrunde \nWer Lust hat\, kann sich anschließen\, Anmeldung erforderlich\, da nur begrenzte Teilnehmerzahl.
URL:https://teupitzgehtauf.de/event/bowling/
LOCATION:Diepensee\, Hauptstr. 10\, Dorfgemeinschaftshaus\, Hauptstr. 10\, Diepensee\, 15711
END:VEVENT
BEGIN:VEVENT
DTSTART;TZID=Europe/Berlin:20240306T190000
DTEND;TZID=Europe/Berlin:20240306T210000
DTSTAMP:20260421T111111
CREATED:20240130T120402Z
LAST-MODIFIED:20240307T121045Z
UID:1750-1709751600-1709758800@teupitzgehtauf.de
SUMMARY:Jahreshauptversammlung
DESCRIPTION:
URL:https://teupitzgehtauf.de/event/jahreshauptversammlung-2/
END:VEVENT
BEGIN:VEVENT
DTSTART;TZID=Europe/Berlin:20240309T103000
DTEND;TZID=Europe/Berlin:20240309T123000
DTSTAMP:20260421T111111
CREATED:20240130T120342Z
LAST-MODIFIED:20240307T121556Z
UID:1752-1709980200-1709987400@teupitzgehtauf.de
SUMMARY:Ostereier basteln
DESCRIPTION:
URL:https://teupitzgehtauf.de/event/ostereier-basteln/
END:VEVENT
BEGIN:VEVENT
DTSTART;TZID=Europe/Berlin:20240324T100000
DTEND;TZID=Europe/Berlin:20240324T130000
DTSTAMP:20260421T111111
CREATED:20240201T172844Z
LAST-MODIFIED:20240201T172844Z
UID:1769-1711274400-1711285200@teupitzgehtauf.de
SUMMARY:3. Teupitzer Frühlingswanderung
DESCRIPTION:Treffpunkt: 10:00 Uhr Gasthaus „Zur Linde“\, Seestraße 27\, 15755 Tornow \nVerlauf (kann abweichen): Tornow\, Tornower See\, Briesensee\, Mittelmühle\, Hohe Mühle\, Tornow \nDie Wanderung wird in diesem Jahr begleitet durch Herrn Hannes Hause\, Naturwacht Brandenburg. Der März bietet sich dafür an\, mythische Themen in den Vordergrund zu rücken sowie Frühblüher bzw. Spuren von Säugetieren\, wie dem Biber\, zu entdecken. Unkostenbeitrag 5 Euro (Kinder frei) – Anmeldung erforderlich (Tel. 0157 56 22 55 21 oder info@teupitzgehtauf.de). Begrenzte Teilnehmerzahl! \nDas Gasthaus hat an diesem Sonntag für alle Wanderer geöffnet und bietet anschließend einen Mittagstisch an.
URL:https://teupitzgehtauf.de/event/3-teupitzer-fruehlingswanderung/
LOCATION:Gasthaus Zur Linde Tornow
END:VEVENT
BEGIN:VEVENT
DTSTART;TZID=Europe/Berlin:20240330T170000
DTEND;TZID=Europe/Berlin:20240330T220000
DTSTAMP:20260421T111111
CREATED:20240325T055629Z
LAST-MODIFIED:20240325T055629Z
UID:1829-1711818000-1711836000@teupitzgehtauf.de
SUMMARY:Osterfeuer in Tornow
DESCRIPTION:Das Osterfest steht vor der Tür und damit auch wieder das Tornower Osterfeuer. In diesem Jahr am 30.03.2024(Ostersonnabend) ab 17:00 Uhr auf dem ehemaligen Sportplatz an der Freiwilligen Feuerwehr Tornow (Tornower Waldstraße). Veranstaltet vom Angelverein Tornow und unterstützt von der Freiwilligen Feuerwehr Tornow. Für das leibliche Wohl ist wie immer gesorgt.
URL:https://teupitzgehtauf.de/event/osterfeuer-in-tornow/
LOCATION:Sportplatz an der Freiwilligen Feuerwehr\, Tornower Waldstr.
END:VEVENT
END:VCALENDAR