BEGIN:VCALENDAR
VERSION:2.0
PRODID:-//Teupitz Gehtauf e.V. - ECPv6.15.20//NONSGML v1.0//EN
CALSCALE:GREGORIAN
METHOD:PUBLISH
X-ORIGINAL-URL:https://teupitzgehtauf.de
X-WR-CALDESC:Veranstaltungen für Teupitz Gehtauf e.V.
REFRESH-INTERVAL;VALUE=DURATION:PT1H
X-Robots-Tag:noindex
X-PUBLISHED-TTL:PT1H
BEGIN:VTIMEZONE
TZID:Europe/Berlin
BEGIN:DAYLIGHT
TZOFFSETFROM:+0100
TZOFFSETTO:+0200
TZNAME:CEST
DTSTART:20240331T010000
END:DAYLIGHT
BEGIN:STANDARD
TZOFFSETFROM:+0200
TZOFFSETTO:+0100
TZNAME:CET
DTSTART:20241027T010000
END:STANDARD
BEGIN:DAYLIGHT
TZOFFSETFROM:+0100
TZOFFSETTO:+0200
TZNAME:CEST
DTSTART:20250330T010000
END:DAYLIGHT
BEGIN:STANDARD
TZOFFSETFROM:+0200
TZOFFSETTO:+0100
TZNAME:CET
DTSTART:20251026T010000
END:STANDARD
BEGIN:DAYLIGHT
TZOFFSETFROM:+0100
TZOFFSETTO:+0200
TZNAME:CEST
DTSTART:20260329T010000
END:DAYLIGHT
BEGIN:STANDARD
TZOFFSETFROM:+0200
TZOFFSETTO:+0100
TZNAME:CET
DTSTART:20261025T010000
END:STANDARD
END:VTIMEZONE
BEGIN:VEVENT
DTSTART;TZID=Europe/Berlin:20250330T100000
DTEND;TZID=Europe/Berlin:20250330T130000
DTSTAMP:20260420T132119
CREATED:20250216T094535Z
LAST-MODIFIED:20250216T094643Z
UID:2219-1743328800-1743339600@teupitzgehtauf.de
SUMMARY:4. Frühlingswanderung
DESCRIPTION:„Komm\, wir geh’n mal eine Runde“ – ca. 3 Stunden mit Pausen\nTreffpunkt:    10:00 Uhr Gasthaus „Zur Linde“ \n Seestraße 27\, 15755 Tornow \nVerlauf:             Tornow\, Südufer Tornower See\, Briesensee\,                            Mittelmühle\, Hohe Mühle\, Tornow. \nDie Wanderung wird begleitet durch Herrn Hannes Hause\, Ranger\, Naturwacht Brandenburg. Herr Hause wird uns wieder mystische Geschichten erzählen. Auch der Biber wird ein Thema sein und wir erfahren etwas über einen seltenen Schmetterling\, der in der Gegend zu finden ist. Bei einer Rast in Mittelmühle und einer kleinen Überraschung berichtet Herr Hause über die Besiedlungsgeschichte.  Lassen Sie sich überraschen. \nUnkostenbeitrag 5 Euro (Kinder frei) – Anmeldung erforderlich (Tel. 0157 56 22 55 21 oder info@teupitzgehtauf.de).  \nBegrenzte Teilnehmerzahl! \nDas Gasthaus „Zur Linde“ hat an diesem Sonntag für alle Wanderer geöffnet und bietet anschließend einen Mittagstisch an. \n 
URL:https://teupitzgehtauf.de/event/4-fruehlingswanderung/
LOCATION:Gasthaus Zur Linde Tornow
END:VEVENT
END:VCALENDAR